BEGIN:VCALENDAR
VERSION:2.0
PRODID:-//Point of the Bluff Vineyards - ECPv6.10.1.1//NONSGML v1.0//EN
CALSCALE:GREGORIAN
METHOD:PUBLISH
X-WR-CALNAME:Point of the Bluff Vineyards
X-ORIGINAL-URL:https://pointofthebluffvineyards.com
X-WR-CALDESC:Events for Point of the Bluff Vineyards
REFRESH-INTERVAL;VALUE=DURATION:PT1H
X-Robots-Tag:noindex
X-PUBLISHED-TTL:PT1H
BEGIN:VTIMEZONE
TZID:America/New_York
BEGIN:DAYLIGHT
TZOFFSETFROM:-0500
TZOFFSETTO:-0400
TZNAME:EDT
DTSTART:20240310T070000
END:DAYLIGHT
BEGIN:STANDARD
TZOFFSETFROM:-0400
TZOFFSETTO:-0500
TZNAME:EST
DTSTART:20241103T060000
END:STANDARD
END:VTIMEZONE
BEGIN:VEVENT
DTSTART;TZID=America/New_York:20241109T120000
DTEND;TZID=America/New_York:20241109T170000
DTSTAMP:20260421T045345
CREATED:20240927T184216Z
LAST-MODIFIED:20241114T174052Z
UID:14921-1731153600-1731171600@pointofthebluffvineyards.com
SUMMARY:Holiday Market
DESCRIPTION:Get into the holiday spirit with us every Saturday from November 9th to December 21st at our beautifully decorated Pavilion! Enjoy a festive afternoon of holiday shopping\, live music\, and delicious food from The Park Out\, all while sipping on our award-winning wines.\n\nEach weekend\, you’ll find a unique selection of local vendors—perfect for checking off your gift list while supporting small businesses! \n\nThroughout the duration of the Holiday Market\, we will be accepting donations to Toys for Tots\, the Food Bank of the Southern Tier\, and the Humane Society of Yates County.\n\nHOLIDAY MARKET ACTIVITIES ❤️\n11/16 – Soup & Wine Flights\n11/23 – Pumpkin Pie Eating Contest\n11/30 – Small Business Saturday\n12/7 – Holiday Trivia & Coloring Contest\n12/14 – Gingerbread House Competition\n12/21 – Ugly Sweaters & Santa
URL:https://pointofthebluffvineyards.com/event/holiday-market-2/2024-11-09/
ATTACH;FMTTYPE=image/png:https://pointofthebluffvineyards.com/wp-content/uploads/2024/09/Holiday-Market-Vendors-1920-x-1080-px-2.png
END:VEVENT
BEGIN:VEVENT
DTSTART;TZID=America/New_York:20241109T130000
DTEND;TZID=America/New_York:20241109T160000
DTSTAMP:20260421T045345
CREATED:20241016T152103Z
LAST-MODIFIED:20241016T152103Z
UID:14930-1731157200-1731168000@pointofthebluffvineyards.com
SUMMARY:Live Music at the Holiday Market
DESCRIPTION:Come hang out with us in the Pavilion on Saturdays from 1-4pm for live music at the Holiday Market!\n\nLive Music Schedule:11/9 – Tremayne Harer11/16 – Chris & Korie11/23 – Natalie Poole11/30 – Hanna PK Duo12/07 – Ed Iseley12/14 – Carissa Ford12/21 – Levi Gangi
URL:https://pointofthebluffvineyards.com/event/live-music-at-the-holiday-market-3/2024-11-09/
ATTACH;FMTTYPE=image/png:https://pointofthebluffvineyards.com/wp-content/uploads/2024/10/Live-Music-HM-Cover.png
END:VEVENT
END:VCALENDAR