BEGIN:VCALENDAR
VERSION:2.0
PRODID:-//Point of the Bluff Vineyards - ECPv6.10.1.1//NONSGML v1.0//EN
CALSCALE:GREGORIAN
METHOD:PUBLISH
X-WR-CALNAME:Point of the Bluff Vineyards
X-ORIGINAL-URL:https://pointofthebluffvineyards.com
X-WR-CALDESC:Events for Point of the Bluff Vineyards
REFRESH-INTERVAL;VALUE=DURATION:PT1H
X-Robots-Tag:noindex
X-PUBLISHED-TTL:PT1H
BEGIN:VTIMEZONE
TZID:America/New_York
BEGIN:DAYLIGHT
TZOFFSETFROM:-0500
TZOFFSETTO:-0400
TZNAME:EDT
DTSTART:20240310T070000
END:DAYLIGHT
BEGIN:STANDARD
TZOFFSETFROM:-0400
TZOFFSETTO:-0500
TZNAME:EST
DTSTART:20241103T060000
END:STANDARD
END:VTIMEZONE
BEGIN:VEVENT
DTSTART;TZID=America/New_York:20241219T180000
DTEND;TZID=America/New_York:20241219T200000
DTSTAMP:20260421T045349
CREATED:20241130T143958Z
LAST-MODIFIED:20241130T143958Z
UID:14951-1734631200-1734638400@pointofthebluffvineyards.com
SUMMARY:Le Tour de France - Wine Edition at The Park Inn
DESCRIPTION:BUY TICKETS\nJoin The Park Inn as we present a 5 course wine dinner featuring rare and exclusive wines from the most famous regions of France. Famous producers from Bordeaux\, Burgundy\, Loire Valley\, and Champagne will be featured in this multi-course dinner featuring products paired with the Park Inn culinary team’s take on French Classic Dishes. \nJoin us for this exclusive experience on Thursday\, December 19th at 6pm. Limited tickets are available. Due to the higher value wines served at this dinner\, tickets are $110 ++
URL:https://pointofthebluffvineyards.com/event/le-tour-de-france-wine-edition-at-the-park-inn/
ATTACH;FMTTYPE=image/jpeg:https://pointofthebluffvineyards.com/wp-content/uploads/2022/06/285511331_695054344799497_7160176672507900156_n.jpeg
END:VEVENT
END:VCALENDAR